BEGIN:VCALENDAR
VERSION:2.0
PRODID:-//Gryphon Badminton Club - ECPv6.15.15//NONSGML v1.0//EN
CALSCALE:GREGORIAN
METHOD:PUBLISH
X-WR-CALNAME:Gryphon Badminton Club
X-ORIGINAL-URL:https://gryphonbadmintonclub.org
X-WR-CALDESC:Events for Gryphon Badminton Club
REFRESH-INTERVAL;VALUE=DURATION:PT1H
X-Robots-Tag:noindex
X-PUBLISHED-TTL:PT1H
BEGIN:VTIMEZONE
TZID:Europe/London
BEGIN:DAYLIGHT
TZOFFSETFROM:+0000
TZOFFSETTO:+0100
TZNAME:BST
DTSTART:20170326T010000
END:DAYLIGHT
BEGIN:STANDARD
TZOFFSETFROM:+0100
TZOFFSETTO:+0000
TZNAME:GMT
DTSTART:20171029T010000
END:STANDARD
BEGIN:DAYLIGHT
TZOFFSETFROM:+0000
TZOFFSETTO:+0100
TZNAME:BST
DTSTART:20180325T010000
END:DAYLIGHT
BEGIN:STANDARD
TZOFFSETFROM:+0100
TZOFFSETTO:+0000
TZNAME:GMT
DTSTART:20181028T010000
END:STANDARD
BEGIN:DAYLIGHT
TZOFFSETFROM:+0000
TZOFFSETTO:+0100
TZNAME:BST
DTSTART:20190331T010000
END:DAYLIGHT
BEGIN:STANDARD
TZOFFSETFROM:+0100
TZOFFSETTO:+0000
TZNAME:GMT
DTSTART:20191027T010000
END:STANDARD
BEGIN:DAYLIGHT
TZOFFSETFROM:+0000
TZOFFSETTO:+0100
TZNAME:BST
DTSTART:20200329T010000
END:DAYLIGHT
BEGIN:STANDARD
TZOFFSETFROM:+0100
TZOFFSETTO:+0000
TZNAME:GMT
DTSTART:20201025T010000
END:STANDARD
END:VTIMEZONE
BEGIN:VEVENT
DTSTART;TZID=Europe/London:20190303T120000
DTEND;TZID=Europe/London:20190303T180000
DTSTAMP:20260424T093056
CREATED:20190218T113719Z
LAST-MODIFIED:20190218T113719Z
UID:1019-1551614400-1551636000@gryphonbadmintonclub.org
SUMMARY:Chaplin Tournament
DESCRIPTION:The Chaplin tournament is a fun tournament that is open to all SES players. \n\nIts on Sunday 3rd March and is at Westlands.\n\nDisciplines available are:\n\n \n\n 	Mens Doubles\n 	Ladies Doubles\n 	Mixed Doubles
URL:https://gryphonbadmintonclub.org/event/chaplin-tournament/
LOCATION:Yeovil Home Venue\, Westlands Sport & Fitness Centre Westbourne Close\, Yeovil\, Somerset\, BA20 2DD\, United Kingdom
CATEGORIES:Tournaments
ORGANIZER;CN="SES Committee":MAILTO:gillcollier@hotmail.com
END:VEVENT
BEGIN:VEVENT
DTSTART;TZID=Europe/London:20190113T140000
DTEND;TZID=Europe/London:20190113T180000
DTSTAMP:20260424T093056
CREATED:20181008T161053Z
LAST-MODIFIED:20181009T100643Z
UID:850-1547388000-1547402400@gryphonbadmintonclub.org
SUMMARY:West Dorset Partner Swap Tournament
DESCRIPTION:
URL:https://gryphonbadmintonclub.org/event/west-dorset-partner-swap-tournament/
LOCATION:Yeovil Home Venue\, Westlands Sport & Fitness Centre Westbourne Close\, Yeovil\, Somerset\, BA20 2DD\, United Kingdom
CATEGORIES:Tournaments
END:VEVENT
BEGIN:VEVENT
DTSTART;VALUE=DATE:20181125
DTEND;VALUE=DATE:20181126
DTSTAMP:20260424T093056
CREATED:20181008T160650Z
LAST-MODIFIED:20181009T100340Z
UID:844-1543104000-1543190399@gryphonbadmintonclub.org
SUMMARY:SES Miller Tournament
DESCRIPTION:Times TBC \n(handicapped tournament events mixed doubles\, ladies doubles\, mens doubles) \nRead more: https://www.sesleaguebadminton.co.uk/fixtures/
URL:https://gryphonbadmintonclub.org/event/ses-miller-tournament/
LOCATION:Somerset
CATEGORIES:Tournaments
END:VEVENT
BEGIN:VEVENT
DTSTART;TZID=Europe/London:20181024T180000
DTEND;TZID=Europe/London:20181024T210000
DTSTAMP:20260424T093056
CREATED:20181008T160943Z
LAST-MODIFIED:20181009T100650Z
UID:848-1540404000-1540414800@gryphonbadmintonclub.org
SUMMARY:West Dorset Veterans
DESCRIPTION:
URL:https://gryphonbadmintonclub.org/event/west-dorset-veterans/
LOCATION:Dorchester Home Venue\, St Osmunds CE Middle School Barnes Way\, Dorchester\, Dorset\, DT1 2DZ\, United Kingdom
CATEGORIES:Tournaments
END:VEVENT
END:VCALENDAR