BEGIN:VCALENDAR
VERSION:2.0
PRODID:-//Gryphon Badminton Club - ECPv6.15.15//NONSGML v1.0//EN
CALSCALE:GREGORIAN
METHOD:PUBLISH
X-ORIGINAL-URL:https://gryphonbadmintonclub.org
X-WR-CALDESC:Events for Gryphon Badminton Club
REFRESH-INTERVAL;VALUE=DURATION:PT1H
X-Robots-Tag:noindex
X-PUBLISHED-TTL:PT1H
BEGIN:VTIMEZONE
TZID:Europe/London
BEGIN:DAYLIGHT
TZOFFSETFROM:+0000
TZOFFSETTO:+0100
TZNAME:BST
DTSTART:20170326T010000
END:DAYLIGHT
BEGIN:STANDARD
TZOFFSETFROM:+0100
TZOFFSETTO:+0000
TZNAME:GMT
DTSTART:20171029T010000
END:STANDARD
BEGIN:DAYLIGHT
TZOFFSETFROM:+0000
TZOFFSETTO:+0100
TZNAME:BST
DTSTART:20180325T010000
END:DAYLIGHT
BEGIN:STANDARD
TZOFFSETFROM:+0100
TZOFFSETTO:+0000
TZNAME:GMT
DTSTART:20181028T010000
END:STANDARD
BEGIN:DAYLIGHT
TZOFFSETFROM:+0000
TZOFFSETTO:+0100
TZNAME:BST
DTSTART:20190331T010000
END:DAYLIGHT
BEGIN:STANDARD
TZOFFSETFROM:+0100
TZOFFSETTO:+0000
TZNAME:GMT
DTSTART:20191027T010000
END:STANDARD
END:VTIMEZONE
BEGIN:VEVENT
DTSTART;TZID=Europe/London:20181101T200000
DTEND;TZID=Europe/London:20181101T220000
DTSTAMP:20260425T112548
CREATED:20181001T190051Z
LAST-MODIFIED:20181009T094531Z
UID:833-1541102400-1541109600@gryphonbadmintonclub.org
SUMMARY:SES CUP MATCH
DESCRIPTION:AWAY match at Dorchester v Gryphon
URL:https://gryphonbadmintonclub.org/event/ses-cup-match-2/
LOCATION:Dorchester Home Venue\, St Osmunds CE Middle School Barnes Way\, Dorchester\, Dorset\, DT1 2DZ\, United Kingdom
CATEGORIES:SES Knockout Cup
ORGANIZER;CN="Ian Day (G4 Captain)":MAILTO:ifcday@live.co.uk
END:VEVENT
END:VCALENDAR